BEGIN:VCALENDAR
VERSION:2.0
PRODID:-//SG-Akustik Hifi Studio - ECPv6.15.16//NONSGML v1.0//EN
CALSCALE:GREGORIAN
METHOD:PUBLISH
X-WR-CALNAME:SG-Akustik Hifi Studio
X-ORIGINAL-URL:https://www.sg-akustik.de
X-WR-CALDESC:Veranstaltungen für SG-Akustik Hifi Studio
REFRESH-INTERVAL;VALUE=DURATION:PT1H
X-Robots-Tag:noindex
X-PUBLISHED-TTL:PT1H
BEGIN:VTIMEZONE
TZID:Europe/Berlin
BEGIN:DAYLIGHT
TZOFFSETFROM:+0100
TZOFFSETTO:+0200
TZNAME:CEST
DTSTART:20240331T010000
END:DAYLIGHT
BEGIN:STANDARD
TZOFFSETFROM:+0200
TZOFFSETTO:+0100
TZNAME:CET
DTSTART:20241027T010000
END:STANDARD
BEGIN:DAYLIGHT
TZOFFSETFROM:+0100
TZOFFSETTO:+0200
TZNAME:CEST
DTSTART:20250330T010000
END:DAYLIGHT
BEGIN:STANDARD
TZOFFSETFROM:+0200
TZOFFSETTO:+0100
TZNAME:CET
DTSTART:20251026T010000
END:STANDARD
BEGIN:DAYLIGHT
TZOFFSETFROM:+0100
TZOFFSETTO:+0200
TZNAME:CEST
DTSTART:20260329T010000
END:DAYLIGHT
BEGIN:STANDARD
TZOFFSETFROM:+0200
TZOFFSETTO:+0100
TZNAME:CET
DTSTART:20261025T010000
END:STANDARD
END:VTIMEZONE
BEGIN:VEVENT
DTSTART;TZID=Europe/Berlin:20251018T163000
DTEND;TZID=Europe/Berlin:20251018T183000
DTSTAMP:20260422T152220
CREATED:20251010T120249Z
LAST-MODIFIED:20251010T121548Z
UID:11628-1760805000-1760812200@www.sg-akustik.de
SUMMARY:Hifi Tage Darmstadt - Exklusiver Messerundgang für SG Akustik Kunden
DESCRIPTION:Hifi Tage  Darmstadt				\n				\n				\n				\n							\n			\n						\n		\n						\n				\n				\n				\n					Exklusiver Messerundgang für SG Akustik Kunden				\n				\n				\n						\n					\n			\n						\n				\n									\nTeilnahme nur mit verbindlicher Anmeldung\nDer Eintritt zur Messe ist kostenfrei\, ebenso der Rundgang \n Der Rundgang wird eröffnet von Holger Biermann\,\nChefredakteur des Onlinemagazins Low Beats und Veranstalter der Hifi Tage\nDarmstadt. \nWir besuchen die wichtigsten Hersteller und treffen vor Ort\nEntwickler\, Inhaber\, Vertriebschefs. Der Rundgang wird moderiert von Stefan\nGellrich\, dem Gründer von SG-Akustik und Fono.de \nDie wichtigsten Fakten :\nDie schönste\, beste\, eindrucksvollste HiFi-Messe in\nDeutschland? \nDarum werden sich viele Veranstalter streiten. Wir haben\neinen besonderen Favoriten: die Deutschen HiFi-Tage\, hier gleich bei uns um die\nEcke in Darmstadt. \nGroßartig optimierte Klangräume (und Klangträume) \nWas die Messe so spannend macht: Sie nutzt das darmstadtium\n– einen großartigen Ort zum Zusammenkommen und ausgestattet mit akustisch\nanspruchsvollen Räumen. Es klingt. Was im vergangenen Jahr über 3.000 Besucher\nzu den Deutschen HiFi-Tagen brachte.\nIn diesem Jahr darf man gespannt sein.\nAbermals rechnen die Veranstalter des Online-Fachmagazins LowBeats mit großem\nAndrang.\nErste Zahlen liegen uns bereits vor\, und diese sind stattlich: 150\nMarken werden von 50 Ausstellern vertreten. Das ist ein immenses Aufgebot\,\nfaktisch sind alle großen Namen dabei. Die komplette Liste veröffentlichen wir\nzeitnah in einer Erinnerung kurz vor dem Messestart. \nViele Deutschland-Premieren stehen an \nFür ernsthafte HiFi-Fans wird ein Tag kaum reichen\, um alles\nzu sehen und vor allem zu hören. Natürlich gibt es auch 2025 wieder eine\nKopfhörer-Lounge\, ein High-End-Heimkino und – für jüngere Besucher (oder\nJunggebliebene) – eine GamingZone mit Fahrsimulator und TV-Wand. \nViele Deutschland-Premieren stehen an\, explizit von den\nHerstellern für Darmstadt adressiert. Noch eine schöne Zahl: Das darmstadtium\nwird komplett gebucht sein – mit 10.000 Quadratmetern. Auch wir von SG Akustik\nsind mit unserem Team vor Ort.  \nDer Rundgang endet 18.30 an der Weinbar \nDer Eintritt ist frei\, Parkplätze liegen direkt\nin der Tiefgarage des Gebäudes\, die Anbindung mit öffentlichen Verkehrsmitteln\nkönnte kaum besser sein. 								\n				\n				\n				\n					\n		\n			\n				\n					\n						\n							\n						\n\n													\n																	\n																			\n																\n												\n				\n\n				\n				\n					\n						\n							\n						\n\n													\n																	\n																			\n																\n												\n				\n\n				\n				\n					\n						\n							\n						\n\n													\n																	\n																			\n																\n												\n				\n\n				\n				\n					\n						\n							\n						\n\n													\n																	\n																			\n																\n												\n				\n\n				\n				\n					\n						\n							\n						\n\n													\n																	\n																			\n																\n												\n				\n\n				\n				\n					\n						\n							\n						\n\n													\n																	\n																			\n																\n												\n				\n\n				\n				\n					\n						\n							\n						\n\n													\n																	\n																			\n																\n												\n				\n\n						\n\n						\n				\n					\n		\n					\n		\n					\n		\n					\n		\n				\n						\n					\n			\n						\n				\n					\n	\n	Datum und Uhrzeit:	\n			18 Oktober\n\n	\n\n	  @  \n\n\n16:30\n\n		\n\n\n\n	\n	  -  \n\n18:30\n\n\n\n	\n				\n				\n				\n				\n					\n	\n		\n\n	\n	Zum Kalender hinzufügen	\n		\n	\n\n		\n			\n									\n	Google Kalender\n\n									\n	iCalendar\n\n									\n	Outlook 365\n\n									\n	Outlook Live\n\n							\n		\n\n		\n	\n\n				\n				\n				\n				\n							\n						\n				\n					\n		\n				\n			\n						\n				\n					\n				\n				\n	\n			\n		darmstatium | Wissenschafts- und Kongresszentrum Darmstadt			\n	\n	\n	\n\nSchlossgraben 1\n	\n		\n		Darmstadt\,\n\n	Hessen\n\n	64283\n\n	Deutschland\n\n\n\n\n	Google Karte anzeigen
URL:https://www.sg-akustik.de/event/hifi-tage-darmstadt-mit-exklusivem-messerundgang-fuer-sg-kunden/
LOCATION:darmstatium | Wissenschafts- und Kongresszentrum Darmstadt\, Schlossgraben 1\, Darmstadt\, Hessen\, 64283\, Deutschland
ATTACH;FMTTYPE=image/jpeg:https://www.sg-akustik.de/wp-content/uploads/2025/10/Top-scaled.jpg
ORGANIZER;CN="SG Akustik Hifi Studio Karlsruhe":MAILTO:info@sg-akustik.de
END:VEVENT
END:VCALENDAR