BEGIN:VCALENDAR
VERSION:2.0
PRODID:-//SG-Akustik Hifi Studio - ECPv6.15.16//NONSGML v1.0//EN
CALSCALE:GREGORIAN
METHOD:PUBLISH
X-WR-CALNAME:SG-Akustik Hifi Studio
X-ORIGINAL-URL:https://www.sg-akustik.de
X-WR-CALDESC:Veranstaltungen für SG-Akustik Hifi Studio
REFRESH-INTERVAL;VALUE=DURATION:PT1H
X-Robots-Tag:noindex
X-PUBLISHED-TTL:PT1H
BEGIN:VTIMEZONE
TZID:Europe/Berlin
BEGIN:DAYLIGHT
TZOFFSETFROM:+0100
TZOFFSETTO:+0200
TZNAME:CEST
DTSTART:20240331T010000
END:DAYLIGHT
BEGIN:STANDARD
TZOFFSETFROM:+0200
TZOFFSETTO:+0100
TZNAME:CET
DTSTART:20241027T010000
END:STANDARD
BEGIN:DAYLIGHT
TZOFFSETFROM:+0100
TZOFFSETTO:+0200
TZNAME:CEST
DTSTART:20250330T010000
END:DAYLIGHT
BEGIN:STANDARD
TZOFFSETFROM:+0200
TZOFFSETTO:+0100
TZNAME:CET
DTSTART:20251026T010000
END:STANDARD
BEGIN:DAYLIGHT
TZOFFSETFROM:+0100
TZOFFSETTO:+0200
TZNAME:CEST
DTSTART:20260329T010000
END:DAYLIGHT
BEGIN:STANDARD
TZOFFSETFROM:+0200
TZOFFSETTO:+0100
TZNAME:CET
DTSTART:20261025T010000
END:STANDARD
END:VTIMEZONE
BEGIN:VEVENT
DTSTART;TZID=Europe/Berlin:20250830T100000
DTEND;TZID=Europe/Berlin:20250830T180000
DTSTAMP:20260421T084542
CREATED:20250623T081337Z
LAST-MODIFIED:20250721T092019Z
UID:10655-1756548000-1756576800@www.sg-akustik.de
SUMMARY:Bowers & Wilkins Sommerfestival 2025 – Special Guest …
DESCRIPTION:Bowers & Wilkins Sommerfestival  2025				\n				\n				\n				\n							\n			\n						\n		\n						\n				\n				\n				\n					Special Guest:Aston Martin Baden-Baden				\n				\n				\n				\n							\n			\n						\n		\n						\n				\n				\n				\n									Heiße Höreindrücke hinter kühlen Mauern und englische Sportwagen 								\n				\n				\n						\n					\n			\n						\n				\n									Weshalb wir an unseren B&W-Event des vergangenen Jahres anknüpfen: Über 200 Hifi Begeisterte fanden im August 2024 den Weg nach Baden-Baden.  War es der Charme unserer Klangvilla in Baden-Baden?War es die Power der versammelten Lautsprecher von Bowers & Wilkins? Vermutlich beides. 								\n				\n					\n		\n				\n			\n						\n				\n							\n					\n				\n						\n				\n					\n		\n					\n		\n				\n				\n							\n			\n						\n		\n						\n				\n				\n				\n									Wir laden zum Sommerfestival in unsere Klangvilla ein.  \nAlle sind da: die neuen 700er Signature und die große 800er-Serie\, als Star fahrenwir abermals die legendäre B&W Nautilus auf.  \n\n\n In Baden-Baden erwartet sie eine exklusive Bowers &\nWilkins Premiere\, lassen sie sich vor Ort überraschen!   Dieses Jahr bekommen die Gäste noch die neuesten Aston Martin Modelle zu sehen. Bestückt mit B&W High-End Anlagenein weiteres Highlight des Sommerfestivals.  \nDer Garten ist geöffnet\, ebenso dieBar und das Espresso-Mobil. Der Pizzabäcker ist bestellt. \nJetzt Platz resevieren 								\n				\n				\n				\n																														\n				\n				\n				\n					\n		\n			\n				\n					\n						\n							\n						\n\n													\n																	\n																			\n																\n												\n				\n\n				\n				\n					\n						\n							\n						\n\n													\n																	\n																			\n																\n												\n				\n\n				\n				\n					\n						\n							\n						\n\n													\n																	\n																			\n																\n												\n				\n\n				\n				\n					\n						\n							\n						\n\n													\n																	\n																			\n																\n												\n				\n\n				\n				\n					\n						\n							\n						\n\n													\n																	\n																			\n																\n												\n				\n\n				\n				\n					\n						\n							\n						\n\n													\n																	\n																			\n																\n												\n				\n\n						\n\n						\n				\n					\n		\n					\n		\n				\n						\n					\n			\n						\n				\n					\n	\n	Datum und Uhrzeit:	\n			30 August\n\n	\n\n	  @  \n\n\n10:00\n\n		\n\n\n\n	\n	  -  \n\n18:00\n\n\n\n	\n				\n				\n				\n				\n					\n	\n		\n\n	\n	Zum Kalender hinzufügen	\n		\n	\n\n		\n			\n									\n	Google Kalender\n\n									\n	iCalendar\n\n									\n	Outlook 365\n\n									\n	Outlook Live\n\n							\n		\n\n		\n	\n\n				\n				\n				\n				\n							\n						\n				\n					\n		\n				\n			\n						\n				\n					\n				\n				\n	\n			\n		Villa Schellbach			\n	\n	\n	\n\nFremersbergstrasse 67A\n	\n		\n		Baden-Baden\,\n\n\n	76530\n\n	Deutschland\n\n\n\n\n	Google Karte anzeigen \n\n\n	\n					\n			+49 (0)7221 970540			\n	 \n\n\n	\n	Veranstaltungsort-Website anzeigen
URL:https://www.sg-akustik.de/event/bw-sommerfestival-2025/
LOCATION:Villa Schellbach\, Fremersbergstrasse 67A\, Baden-Baden\, 76530\, Deutschland
ATTACH;FMTTYPE=image/jpeg:https://www.sg-akustik.de/wp-content/uploads/2025/07/Header.jpg
ORGANIZER;CN="SG Akustik Hifi Studio Baden-Baden":MAILTO:info@sg-akustik.de
END:VEVENT
END:VCALENDAR