BEGIN:VCALENDAR
VERSION:2.0
PRODID:-//SG-Akustik Hifi Studio - ECPv6.15.16//NONSGML v1.0//EN
CALSCALE:GREGORIAN
METHOD:PUBLISH
X-WR-CALNAME:SG-Akustik Hifi Studio
X-ORIGINAL-URL:https://www.sg-akustik.de
X-WR-CALDESC:Veranstaltungen für SG-Akustik Hifi Studio
REFRESH-INTERVAL;VALUE=DURATION:PT1H
X-Robots-Tag:noindex
X-PUBLISHED-TTL:PT1H
BEGIN:VTIMEZONE
TZID:Europe/Berlin
BEGIN:DAYLIGHT
TZOFFSETFROM:+0100
TZOFFSETTO:+0200
TZNAME:CEST
DTSTART:20240331T010000
END:DAYLIGHT
BEGIN:STANDARD
TZOFFSETFROM:+0200
TZOFFSETTO:+0100
TZNAME:CET
DTSTART:20241027T010000
END:STANDARD
BEGIN:DAYLIGHT
TZOFFSETFROM:+0100
TZOFFSETTO:+0200
TZNAME:CEST
DTSTART:20250330T010000
END:DAYLIGHT
BEGIN:STANDARD
TZOFFSETFROM:+0200
TZOFFSETTO:+0100
TZNAME:CET
DTSTART:20251026T010000
END:STANDARD
BEGIN:DAYLIGHT
TZOFFSETFROM:+0100
TZOFFSETTO:+0200
TZNAME:CEST
DTSTART:20260329T010000
END:DAYLIGHT
BEGIN:STANDARD
TZOFFSETFROM:+0200
TZOFFSETTO:+0100
TZNAME:CET
DTSTART:20261025T010000
END:STANDARD
END:VTIMEZONE
BEGIN:VEVENT
DTSTART;TZID=Europe/Berlin:20251025T100000
DTEND;TZID=Europe/Berlin:20251025T160000
DTSTAMP:20260422T153002
CREATED:20251007T185326Z
LAST-MODIFIED:20251008T084157Z
UID:11599-1761386400-1761408000@www.sg-akustik.de
SUMMARY:Beo Grace - Exklusive Premiere bei Bang & Olufsen Karlsruhe
DESCRIPTION:Beo Grace				\n				\n				\n				\n							\n			\n						\n		\n						\n				\n				\n				\n					Exklusive Premiere bei Bang & Olufsen Karlsruhe				\n				\n				\n						\n					\n			\n						\n				\n									Jetzt ist er da. Der Earbud\, den Sie nicht nur nutzen\, sondern mit Stolz tragen.Der Beo Grace ebnet den Weg für den Sound der nächsten Generation und langlebige Handwerkskunst.Lassen Sie sich mitreißen. Erleben Sie den Beo Grace live bei unserem exklusiven Event. Hören Sie jedes Detail und bestaunen Sie sein Design.Bitte melden Sie sich hier online zu unserer exklusiven Premiere an. Auch Kurzentschlossene finden Einlass\, aber sicher ist sicher.Wir freuen uns auf Sie und ein spannendes\, audiophiles Event. \nHerzlich Ihr Patrick Wettstein und das ganze B&O Team 								\n				\n				\n				\n					\n		\n			\n				\n					\n						\n							\n						\n\n													\n																	\n																			\n																\n												\n				\n\n				\n				\n					\n						\n							\n						\n\n													\n																	\n																			\n																\n												\n				\n\n				\n				\n					\n						\n							\n						\n\n													\n																	\n																			\n																\n												\n				\n\n				\n				\n					\n						\n							\n						\n\n													\n																	\n																			\n																\n												\n				\n\n				\n				\n					\n						\n							\n						\n\n													\n																	\n																			\n																\n												\n				\n\n				\n				\n					\n						\n							\n						\n\n													\n																	\n																			\n																\n												\n				\n\n				\n				\n					\n						\n							\n						\n\n													\n																	\n																			\n																\n												\n				\n\n				\n				\n					\n						\n							\n						\n\n													\n																	\n																			\n																\n												\n				\n\n						\n\n						\n				\n					\n		\n					\n		\n					\n		\n					\n		\n				\n						\n					\n			\n						\n				\n					\n	\n	Datum und Uhrzeit:	\n			25 Oktober\n\n	\n\n	  @  \n\n\n10:00\n\n		\n\n\n\n	\n	  -  \n\n16:00\n\n\n\n	\n				\n				\n				\n				\n					\n	\n		\n\n	\n	Zum Kalender hinzufügen	\n		\n	\n\n		\n			\n									\n	Google Kalender\n\n									\n	iCalendar\n\n									\n	Outlook 365\n\n									\n	Outlook Live\n\n							\n		\n\n		\n	\n\n				\n				\n				\n				\n							\n						\n				\n					\n		\n				\n			\n						\n				\n					\n				\n				\n	\n			\n		Bang & Olufsen Karlsruhe			\n	\n	\n	\n\nErbprinzenstr. 27\n	\n		\n		Karlsruhe\,\n\n	Baden-Württemberg\n\n	76133\n\n	Deutschland\n\n\n\n\n	Google Karte anzeigen \n\n\n	\n					\n			+49 721 2032940
URL:https://www.sg-akustik.de/event/beo-grace-exklusive-premiere-bei-bang-olufsen-karlsruhe/
LOCATION:Bang & Olufsen Karlsruhe\, Erbprinzenstr. 27\, Karlsruhe\, Baden-Württemberg\, 76133\, Deutschland
ATTACH;FMTTYPE=image/png:https://www.sg-akustik.de/wp-content/uploads/2025/10/Beo-Grace-6.png
ORGANIZER;CN="Bang & Olufsen Karlsruhe":MAILTO:bang&amp;olufsen@sg-akustik.de
END:VEVENT
END:VCALENDAR