BEGIN:VCALENDAR
VERSION:2.0
PRODID:-//SG-Akustik Hifi Studio - ECPv6.15.16//NONSGML v1.0//EN
CALSCALE:GREGORIAN
METHOD:PUBLISH
X-WR-CALNAME:SG-Akustik Hifi Studio
X-ORIGINAL-URL:https://www.sg-akustik.de
X-WR-CALDESC:Veranstaltungen für SG-Akustik Hifi Studio
REFRESH-INTERVAL;VALUE=DURATION:PT1H
X-Robots-Tag:noindex
X-PUBLISHED-TTL:PT1H
BEGIN:VTIMEZONE
TZID:Europe/Berlin
BEGIN:DAYLIGHT
TZOFFSETFROM:+0100
TZOFFSETTO:+0200
TZNAME:CEST
DTSTART:20240331T010000
END:DAYLIGHT
BEGIN:STANDARD
TZOFFSETFROM:+0200
TZOFFSETTO:+0100
TZNAME:CET
DTSTART:20241027T010000
END:STANDARD
BEGIN:DAYLIGHT
TZOFFSETFROM:+0100
TZOFFSETTO:+0200
TZNAME:CEST
DTSTART:20250330T010000
END:DAYLIGHT
BEGIN:STANDARD
TZOFFSETFROM:+0200
TZOFFSETTO:+0100
TZNAME:CET
DTSTART:20251026T010000
END:STANDARD
BEGIN:DAYLIGHT
TZOFFSETFROM:+0100
TZOFFSETTO:+0200
TZNAME:CEST
DTSTART:20260329T010000
END:DAYLIGHT
BEGIN:STANDARD
TZOFFSETFROM:+0200
TZOFFSETTO:+0100
TZNAME:CET
DTSTART:20261025T010000
END:STANDARD
END:VTIMEZONE
BEGIN:VEVENT
DTSTART;TZID=Europe/Berlin:20250927T100000
DTEND;TZID=Europe/Berlin:20250927T160000
DTSTAMP:20260422T152413
CREATED:20250822T080509Z
LAST-MODIFIED:20250822T080714Z
UID:11021-1758967200-1758988800@www.sg-akustik.de
SUMMARY:Art Deco – Atelier Limited Edition
DESCRIPTION:Art Deco – Atelier Limited Edition				\n				\n				\n				\n							\n			\n						\n		\n						\n				\n				\n				\n					Exklusive Produktvorstellung in der Villa Schellbach in Baden-Baden zum 100. Geburtstag von Bang & Olufsen\n				\n				\n				\n						\n					\n			\n						\n				\n									Feiern Sie mit uns 100 Jahre Innovation! \nDiese Limited Edition von Beovision Theatre und Beolab 28 ist das Ergebnis von 100 Jahren unermüdlichen Schaffens und ist einzigartig – eine raffinierte\, architektonische Interpretation unseres legendärsten Soundsystems. \nErleben Sie die beeindruckende Kreation live bei unserem Event in der historischen Villa Schellbach. \nBitte melden Sie sich zu unserer exklusiven Vorstellung an. Auch Kurzentschlossene finden Einlass\, aber sicher ist sicher. Wir freuen uns auf Sie und ein spannendes\, audiophiles Event. \nHerzlich Ihr Patrick Wettstein und das ganze B&O Team 								\n				\n				\n				\n					\n		\n			\n				\n					\n						\n							\n						\n\n													\n																	\n																			\n																\n												\n				\n\n				\n				\n					\n						\n							\n						\n\n													\n																	\n																			\n																\n												\n				\n\n				\n				\n					\n						\n							\n						\n\n													\n																	\n																			\n																\n												\n				\n\n				\n				\n					\n						\n							\n						\n\n													\n																	\n																			\n																\n												\n				\n\n				\n				\n					\n						\n							\n						\n\n													\n																	\n																			\n																\n												\n				\n\n				\n				\n					\n						\n							\n						\n\n													\n																	\n																			\n																\n												\n				\n\n						\n\n						\n				\n					\n		\n					\n		\n					\n		\n					\n		\n				\n						\n					\n			\n						\n				\n					\n	\n	Datum und Uhrzeit:	\n			27 September\n\n	\n\n	  @  \n\n\n10:00\n\n		\n\n\n\n	\n	  -  \n\n16:00\n\n\n\n	\n				\n				\n				\n				\n					\n	\n		\n\n	\n	Zum Kalender hinzufügen	\n		\n	\n\n		\n			\n									\n	Google Kalender\n\n									\n	iCalendar\n\n									\n	Outlook 365\n\n									\n	Outlook Live\n\n							\n		\n\n		\n	\n\n				\n				\n				\n				\n							\n						\n				\n					\n		\n				\n			\n						\n				\n					\n				\n				\n	\n			\n		Villa Schellbach			\n	\n	\n	\n\nFremersbergstrasse 67A\n	\n		\n		Baden-Baden\,\n\n\n	76530\n\n	Deutschland\n\n\n\n\n	Google Karte anzeigen \n\n\n	\n					\n			+49 (0)7221 970540			\n	 \n\n\n	\n	Veranstaltungsort-Website anzeigen
URL:https://www.sg-akustik.de/event/art-deco-atelier-limited-edition/
LOCATION:Villa Schellbach\, Fremersbergstrasse 67A\, Baden-Baden\, 76530\, Deutschland
ATTACH;FMTTYPE=image/jpeg:https://www.sg-akustik.de/wp-content/uploads/2025/08/Art-Deco-2025-Digital-EN-1920×1920-Crop-Clean-0025-.jpg
ORGANIZER;CN="Bang & Olufsen Baden-Baden":MAILTO:bangolufsen@sg-akustik.de
END:VEVENT
END:VCALENDAR